BEGIN:VCALENDAR
VERSION:2.0
PRODID:-//Cleary Building Corp. - ECPv6.15.20//NONSGML v1.0//EN
CALSCALE:GREGORIAN
METHOD:PUBLISH
X-ORIGINAL-URL:https://clearybuilding.com
X-WR-CALDESC:Events for Cleary Building Corp.
REFRESH-INTERVAL;VALUE=DURATION:PT1H
X-Robots-Tag:noindex
X-PUBLISHED-TTL:PT1H
BEGIN:VTIMEZONE
TZID:UTC
BEGIN:STANDARD
TZOFFSETFROM:+0000
TZOFFSETTO:+0000
TZNAME:UTC
DTSTART:20250101T000000
END:STANDARD
END:VTIMEZONE
BEGIN:VEVENT
DTSTART;TZID=UTC:20260305T080000
DTEND;TZID=UTC:20260308T170000
DTSTAMP:20260422T155920
CREATED:20260303T204220Z
LAST-MODIFIED:20260303T204220Z
UID:10000523-1772697600-1772989200@clearybuilding.com
SUMMARY:2026 Central Oregon Sportsmen's Show
DESCRIPTION:
URL:https://clearybuilding.com/event/2026-central-oregon-sportsmens-show/
LOCATION:Central Oregon Sportsmen’s Show\, 3800 SW Airport Wy\, Redmond\, OR\, 97756\, United States
END:VEVENT
END:VCALENDAR